Workbook
Name MUL: #REF!
Name MUL: #REF!

Sheet TO&E
A1: Unit | B1: Tech Base | C1: Type | D1: Ton | E1: Role | F1: Base BV Cost | G1: MechWarrior/Pilot | H1: Gunnery | I1: Piloting / AntiMech | J1: Training | K1: Guided Munitions BV | L1: TAG Y/N | M1: TAG BV Cost | N1: TAG Adjusted BV | O1: C3 Network | P1: C3 BV Cost | Q1: C3 Adjusted Cost | R1: Skill Multiplier | S1: Skill Adjusted Final BV | T1: Specialist Ammo | U1: Notes
J2: =IF(A2="","",VLOOKUP(MIN(H2,(I2-1)),'Allowed Skills'!D$2:E$10,2,FALSE)) | L2: N | M2: =IF(L2="Y",SUM(K$2:K$13),"0") -> 0 | N2: =F2+M2 -> 0 | P2: =ROUND(0.05*SUMIF(O$2:O$13,O2,N$2:N$13),0) -> 0 | Q2: =P2+N2 -> 0 | R2: =IF(A2="","",VLOOKUP(H2,'Skill Multiplier'!$A$1:$J$10,I2+2)) | S2: =IF(A2="","",ROUND(Q2*R2,0))
J3: =IF(A3="","",VLOOKUP(MIN(H3,(I3-1)),'Allowed Skills'!D$2:E$10,2,FALSE)) | L3: N | M3: =IF(L3="Y",SUM(K$2:K$13),"0") -> 0 | N3: =F3+M3 -> 0 | P3: =ROUND(0.05*SUMIF(O$2:O$13,O3,N$2:N$13),0) -> 0 | Q3: =P3+N3 -> 0 | R3: =IF(A3="","",VLOOKUP(H3,'Skill Multiplier'!$A$1:$J$10,I3+2)) | S3: =IF(A3="","",ROUND(Q3*R3,0))
J4: =IF(A4="","",VLOOKUP(MIN(H4,(I4-1)),'Allowed Skills'!D$2:E$10,2,FALSE)) | L4: N | M4: =IF(L4="Y",SUM(K$2:K$13),"0") -> 0 | N4: =F4+M4 -> 0 | P4: =ROUND(0.05*SUMIF(O$2:O$13,O4,N$2:N$13),0) -> 0 | Q4: =P4+N4 -> 0 | R4: =IF(A4="","",VLOOKUP(H4,'Skill Multiplier'!$A$1:$J$10,I4+2)) | S4: =IF(A4="","",ROUND(Q4*R4,0))
J5: =IF(A5="","",VLOOKUP(MIN(H5,(I5-1)),'Allowed Skills'!D$2:E$10,2,FALSE)) | L5: N | M5: =IF(L5="Y",SUM(K$2:K$13),"0") -> 0 | N5: =F5+M5 -> 0 | P5: =ROUND(0.05*SUMIF(O$2:O$13,O5,N$2:N$13),0) -> 0 | Q5: =P5+N5 -> 0 | R5: =IF(A5="","",VLOOKUP(H5,'Skill Multiplier'!$A$1:$J$10,I5+2)) | S5: =IF(A5="","",ROUND(Q5*R5,0))
J6: =IF(A6="","",VLOOKUP(MIN(H6,(I6-1)),'Allowed Skills'!D$2:E$10,2,FALSE)) | L6: N | M6: =IF(L6="Y",SUM(K$2:K$13),"0") -> 0 | N6: =F6+M6 -> 0 | P6: =ROUND(0.05*SUMIF(O$2:O$13,O6,N$2:N$13),0) -> 0 | Q6: =P6+N6 -> 0 | R6: =IF(A6="","",VLOOKUP(H6,'Skill Multiplier'!$A$1:$J$10,I6+2)) | S6: =IF(A6="","",ROUND(Q6*R6,0))
J7: =IF(A7="","",VLOOKUP(MIN(H7,(I7-1)),'Allowed Skills'!D$2:E$10,2,FALSE)) | L7: N | M7: =IF(L7="Y",SUM(K$2:K$13),"0") -> 0 | N7: =F7+M7 -> 0 | P7: =ROUND(0.05*SUMIF(O$2:O$13,O7,N$2:N$13),0) -> 0 | Q7: =P7+N7 -> 0 | R7: =IF(A7="","",VLOOKUP(H7,'Skill Multiplier'!$A$1:$J$10,I7+2)) | S7: =IF(A7="","",ROUND(Q7*R7,0))
J8: =IF(A8="","",VLOOKUP(MIN(H8,(I8-1)),'Allowed Skills'!D$2:E$10,2,FALSE)) | L8: N | M8: =IF(L8="Y",SUM(K$2:K$13),"0") -> 0 | N8: =F8+M8 -> 0 | P8: =ROUND(0.05*SUMIF(O$2:O$13,O8,N$2:N$13),0) -> 0 | Q8: =P8+N8 -> 0 | R8: =IF(A8="","",VLOOKUP(H8,'Skill Multiplier'!$A$1:$J$10,I8+2)) | S8: =IF(A8="","",ROUND(Q8*R8,0))
J9: =IF(A9="","",VLOOKUP(MIN(H9,(I9-1)),'Allowed Skills'!D$2:E$10,2,FALSE)) | L9: N | M9: =IF(L9="Y",SUM(K$2:K$13),"0") -> 0 | N9: =F9+M9 -> 0 | P9: =ROUND(0.05*SUMIF(O$2:O$13,O9,N$2:N$13),0) -> 0 | Q9: =P9+N9 -> 0 | R9: =IF(A9="","",VLOOKUP(H9,'Skill Multiplier'!$A$1:$J$10,I9+2)) | S9: =IF(A9="","",ROUND(Q9*R9,0))
J10: =IF(A10="","",VLOOKUP(MIN(H10,(I10-1)),'Allowed Skills'!D$2:E$10,2,FALSE)) | L10: N | M10: =IF(L10="Y",SUM(K$2:K$13),"0") -> 0 | N10: =F10+M10 -> 0 | P10: =ROUND(0.05*SUMIF(O$2:O$13,O10,N$2:N$13),0) -> 0 | Q10: =P10+N10 -> 0 | R10: =IF(A10="","",VLOOKUP(H10,'Skill Multiplier'!$A$1:$J$10,I10+2)) | S10: =IF(A10="","",ROUND(Q10*R10,0))
J11: =IF(A11="","",VLOOKUP(MIN(H11,(I11-1)),'Allowed Skills'!D$2:E$10,2,FALSE)) | L11: N | M11: =IF(L11="Y",SUM(K$2:K$13),"0") -> 0 | N11: =F11+M11 -> 0 | P11: =ROUND(0.05*SUMIF(O$2:O$13,O11,N$2:N$13),0) -> 0 | Q11: =P11+N11 -> 0 | R11: =IF(A11="","",VLOOKUP(H11,'Skill Multiplier'!$A$1:$J$10,I11+2)) | S11: =IF(A11="","",ROUND(Q11*R11,0))
J12: =IF(A12="","",VLOOKUP(MIN(H12,(I12-1)),'Allowed Skills'!D$2:E$10,2,FALSE)) | L12: N | M12: =IF(L12="Y",SUM(K$2:K$13),"0") -> 0 | N12: =F12+M12 -> 0 | P12: =ROUND(0.05*SUMIF(O$2:O$13,O12,N$2:N$13),0) -> 0 | Q12: =P12+N12 -> 0 | R12: =IF(A12="","",VLOOKUP(H12,'Skill Multiplier'!$A$1:$J$10,I12+2)) | S12: =IF(A12="","",ROUND(Q12*R12,0))
J13: =IF(A13="","",VLOOKUP(MIN(H13,(I13-1)),'Allowed Skills'!D$2:E$10,2,FALSE)) | L13: N | M13: =IF(L13="Y",SUM(K$2:K$13),"0") -> 0 | N13: =F13+M13 -> 0 | P13: =ROUND(0.05*SUMIF(O$2:O$13,O13,N$2:N$13),0) -> 0 | Q13: =P13+N13 -> 0 | R13: =IF(A13="","",VLOOKUP(H13,'Skill Multiplier'!$A$1:$J$10,I13+2)) | S13: =IF(A13="","",ROUND(Q13*R13,0))
A14: Notes: Grey cells are formula. White cells are for manual input | F14: Total Base BV | G14: Notes | H14: Average | I14: Average | K14: Total Guided Munitions BV | L14: No | M14: Base TAG BV Cost | N14: Total TAG Adjusted BV | Q14: Total C3 Adjusted BV | S14: Total Skill Adjusted BV | T14: Guided Munitions BV Cost. Semi Guided LRMs: LRM 5 (6 BV), LRM 10 (11 BV), LRM 15 (17 BV), LRM 20 (23 BV). MML3 (4BV), MML5 (6BV), MML7 (8BV), MML9 (11BV), Arrow IV Homing (30 BV)
F15: =SUM(F2:F13) -> 0 | H15: =ROUND(AVERAGE(H2:H13,0),0) -> 0 | I15: =ROUND(AVERAGE(I2:I13,0),0) -> 0 | K15: =SUM(K2:K13) -> 0 | L15: =COUNTIF(L2:L13,"Y") -> 0 | M15: =SUM(M2:M13) -> 0 | N15: =SUM(N2:N13) -> 0 | Q15: =SUM(Q2:Q13) -> 0 | S15: =SUM(S2:S13) -> 0

Sheet Example
A1: Unit | B1: Tech Base | C1: Type | D1: Ton | E1: Role | F1: Base BV Cost | G1: MechWarrior/Pilot | H1: Gunnery | I1: Piloting / AntiMech | J1: Training | K1: Guided Munitions BV | L1: TAG Y/N | M1: TAG BV Cost | N1: TAG Adjusted BV | O1: C3 Network | P1: C3 BV Cost | Q1: C3 Adjusted Cost | R1: Skill Multiplier | S1: Skill Adjusted Final BV | T1: Specialist Ammo | U1: Notes
A2: Sunder SD1-OB | B2: Inner Sphere | C2: BattleMech | D2: 90 | E2: Brawler | F2: 1597 | G2: Tai-i Sondre Fiskå | H2: 3 | I2: 4 | J2: =VLOOKUP(MIN(H2,(I2-1)),'Allowed Skills'!D$2:E$10,2,FALSE) -> Veteran | K2: 34 | L2: Y | M2: =IF(L2="Y",SUM(K$2:K$13),"0") -> 56 | N2: =F2+M2 -> 1653 | P2: =ROUND(0.05*SUMIF(O$2:O$13,O2,N$2:N$13),0) -> 0 | Q2: =P2+N2 -> 1653 | R2: =VLOOKUP(H2,'Skill Multiplier'!$A$1:$J$10,I2+2) -> 1.32 | S2: =ROUND(Q2*R2,0) -> 2182 | T2: Semi Guided LRM 20 (1 tons/23 BV), Semi Guided LRM 10 (1 Ton/11 BV) | U2: C3 Master (Comapany). C3 Master (Lance Newtork A).
A3: Black Hawk-KU BHKU-OX | B3: Inner Sphere | C3: BattleMech | D3: 60 | E3: Skirmisher | F3: 1941 | G3: Kai-xi Hsi | H3: 4 | I3: 5 | J3: =VLOOKUP(MIN(H3,(I3-1)),'Allowed Skills'!D$2:E$10,2,FALSE) -> Regular | L3: N | M3: =IF(L3="Y",SUM(K$2:K$13),"0") -> 0 | N3: =F3+M3 -> 1941 | P3: =ROUND(0.05*SUMIF(O$2:O$13,O3,N$2:N$13),0) -> 0 | Q3: =P3+N3 -> 1941 | R3: =VLOOKUP(H3,'Skill Multiplier'!$A$1:$J$10,I3+2) -> 1 | S3: =ROUND(Q3*R3,0) -> 1941 | U3: C3 Slave [A]
A4: Blackjack NJ2-OB | B4: Inner Sphere | C4: BattleMech | D4: 50 | E4: Sniper | F4: 1323 | G4: Geoffrey Rippel | H4: 4 | I4: 5 | J4: =VLOOKUP(MIN(H4,(I4-1)),'Allowed Skills'!D$2:E$10,2,FALSE) -> Regular | L4: N | M4: =IF(L4="Y",SUM(K$2:K$13),"0") -> 0 | N4: =F4+M4 -> 1323 | P4: =ROUND(0.05*SUMIF(O$2:O$13,O4,N$2:N$13),0) -> 0 | Q4: =P4+N4 -> 1323 | R4: =VLOOKUP(H4,'Skill Multiplier'!$A$1:$J$10,I4+2) -> 1 | S4: =ROUND(Q4*R4,0) -> 1323 | T4: Artemis LRM 10 | U4: C3 Slave [A]
A5: Raptor RTX1-OD | B5: Inner Sphere | C5: BattleMech | D5: 25 | E5: Striker | F5: 490 | G5: Juan Pingarrón | H5: 4 | I5: 5 | J5: =VLOOKUP(MIN(H5,(I5-1)),'Allowed Skills'!D$2:E$10,2,FALSE) -> Regular | L5: N | M5: =IF(L5="Y",SUM(K$2:K$13),"0") -> 0 | N5: =F5+M5 -> 490 | P5: =ROUND(0.05*SUMIF(O$2:O$13,O5,N$2:N$13),0) -> 0 | Q5: =P5+N5 -> 490 | R5: =VLOOKUP(H5,'Skill Multiplier'!$A$1:$J$10,I5+2) -> 1 | S5: =ROUND(Q5*R5,0) -> 490 | U5: C3 Slave [A]
A6: Avatar AV1-OC | B6: Inner Sphere | C6: BattleMech | D6: 70 | E6: Sniper | F6: 1406 | G6: Chu-i Destinie Khaled | H6: 3 | I6: 5 | J6: =VLOOKUP(MIN(H6,(I6-1)),'Allowed Skills'!D$2:E$10,2,FALSE) -> Veteran | K6: 11 | L6: Y | M6: =IF(L6="Y",SUM(K$2:K$13),"0") -> 56 | N6: =F6+M6 -> 1462 | P6: =ROUND(0.05*SUMIF(O$2:O$13,O6,N$2:N$13),0) -> 0 | Q6: =P6+N6 -> 1462 | R6: =VLOOKUP(H6,'Skill Multiplier'!$A$1:$J$10,I6+2) -> 1.2 | S6: =ROUND(Q6*R6,0) -> 1754 | T6: Semi Guided LRM 10 (1 Tons/11 BV) | U6: C3 Master (Lance Network B)
A7: Firestarter FS9-OC | B7: Inner Sphere | C7: BattleMech | D7: 45 | E7: Missile Boat | F7: 1006 | G7: Tisha Carver | H7: 4 | I7: 5 | J7: =VLOOKUP(MIN(H7,(I7-1)),'Allowed Skills'!D$2:E$10,2,FALSE) -> Regular | K7: 11 | L7: N | M7: =IF(L7="Y",SUM(K$2:K$13),"0") -> 0 | N7: =F7+M7 -> 1006 | P7: =ROUND(0.05*SUMIF(O$2:O$13,O7,N$2:N$13),0) -> 0 | Q7: =P7+N7 -> 1006 | R7: =VLOOKUP(H7,'Skill Multiplier'!$A$1:$J$10,I7+2) -> 1 | S7: =ROUND(Q7*R7,0) -> 1006 | T7: Semi Guided LRM 10 (1 Tons/11 BV ) | U7: C3 Spave [B]
A8: Strider SR1-OD | B8: Inner Sphere | C8: BattleMech | D8: 40 | E8: Striker | F8: 873 | G8: Adaira Watson | H8: 4 | I8: 5 | J8: =VLOOKUP(MIN(H8,(I8-1)),'Allowed Skills'!D$2:E$10,2,FALSE) -> Regular | L8: Y | M8: =IF(L8="Y",SUM(K$2:K$13),"0") -> 56 | N8: =F8+M8 -> 929 | P8: =ROUND(0.05*SUMIF(O$2:O$13,O8,N$2:N$13),0) -> 0 | Q8: =P8+N8 -> 929 | R8: =VLOOKUP(H8,'Skill Multiplier'!$A$1:$J$10,I8+2) -> 1 | S8: =ROUND(Q8*R8,0) -> 929 | U8: C3 Spave [B]
A9: Owens OW-1A | B9: Inner Sphere | C9: BattleMech | D9: 35 | E9: Striker | F9: 680 | G9: Joe Wada | H9: 4 | I9: 5 | J9: =VLOOKUP(MIN(H9,(I9-1)),'Allowed Skills'!D$2:E$10,2,FALSE) -> Regular | L9: Y | M9: =IF(L9="Y",SUM(K$2:K$13),"0") -> 56 | N9: =F9+M9 -> 736 | P9: =ROUND(0.05*SUMIF(O$2:O$13,O9,N$2:N$13),0) -> 0 | Q9: =P9+N9 -> 736 | R9: =VLOOKUP(H9,'Skill Multiplier'!$A$1:$J$10,I9+2) -> 1 | S9: =ROUND(Q9*R9,0) -> 736 | U9: C3 Spave [B]
A10: Kage Light Battle Armor (Sqd4) | B10: Inner Sphere | C10: Battle Armor | D10: 4 | E10: Scout | F10: 126 | G10: Virginia Carlsson | H10: 4 | I10: 4 | J10: =VLOOKUP(MIN(H10,(I10-1)),'Allowed Skills'!D$2:E$10,2,FALSE) -> Veteran | L10: N | M10: =IF(L10="Y",SUM(K$2:K$13),"0") -> 0 | N10: =F10+M10 -> 126 | P10: =ROUND(0.05*SUMIF(O$2:O$13,O10,N$2:N$13),0) -> 0 | Q10: =P10+N10 -> 126 | R10: =VLOOKUP(H10,'Skill Multiplier'!$A$1:$J$10,I10+2) -> 1.1 | S10: =ROUND(Q10*R10,0) -> 139 | U10: Mounted on Raptor
A11: Kage Light Battle Armor (Sqd4) | B11: Inner Sphere | C11: Battle Armor | D11: 4 | E11: Scout | F11: 126 | G11: Nisma bin Amid | H11: 4 | I11: 4 | J11: =VLOOKUP(MIN(H11,(I11-1)),'Allowed Skills'!D$2:E$10,2,FALSE) -> Veteran | L11: N | M11: =IF(L11="Y",SUM(K$2:K$13),"0") -> 0 | N11: =F11+M11 -> 126 | P11: =ROUND(0.05*SUMIF(O$2:O$13,O11,N$2:N$13),0) -> 0 | Q11: =P11+N11 -> 126 | R11: =VLOOKUP(H11,'Skill Multiplier'!$A$1:$J$10,I11+2) -> 1.1 | S11: =ROUND(Q11*R11,0) -> 139 | U11: Mounted on Black Hawk-KU
A12: Kage Light Battle Armor (Sqd4) | B12: Inner Sphere | C12: Battle Armor | D12: 4 | E12: Scout | F12: 126 | G12: Mary Koutek | H12: 4 | I12: 4 | J12: =VLOOKUP(MIN(H12,(I12-1)),'Allowed Skills'!D$2:E$10,2,FALSE) -> Veteran | L12: N | M12: =IF(L12="Y",SUM(K$2:K$13),"0") -> 0 | N12: =F12+M12 -> 126 | P12: =ROUND(0.05*SUMIF(O$2:O$13,O12,N$2:N$13),0) -> 0 | Q12: =P12+N12 -> 126 | R12: =VLOOKUP(H12,'Skill Multiplier'!$A$1:$J$10,I12+2) -> 1.1 | S12: =ROUND(Q12*R12,0) -> 139 | U12: Mounted on Strider
A13: Kage Light Battle Armor (Sqd4) | B13: Inner Sphere | C13: Battle Armor | D13: 4 | E13: Scout | F13: 126 | G13: Lucja Mohanty | H13: 4 | I13: 4 | J13: =VLOOKUP(MIN(H13,(I13-1)),'Allowed Skills'!D$2:E$10,2,FALSE) -> Veteran | L13: N | M13: =IF(L13="Y",SUM(K$2:K$13),"0") -> 0 | N13: =F13+M13 -> 126 | P13: =ROUND(0.05*SUMIF(O$2:O$13,O13,N$2:N$13),0) -> 0 | Q13: =P13+N13 -> 126 | R13: =VLOOKUP(H13,'Skill Multiplier'!$A$1:$J$10,I13+2) -> 1.1 | S13: =ROUND(Q13*R13,0) -> 139 | U13: Mounted on Owens
A14: Notes: Grey cells are formula. White cells are for manual input | F14: Total Base BV | G14: Notes | H14: Average | I14: Average | K14: Total Guided Munitions BV | L14: No | M14: Base TAG BV Cost | N14: Total TAG Adjusted BV | Q14: Total C3 Adjusted BV | S14: Total Skill Adjusted BV | T14: Guided Munitions BV Cost. Semi Guided LRMs: LRM 5 (6 BV), LRM 10 (11 BV), LRM 15 (17 BV), LRM 20 (23 BV). MML3 (4BV), MML5 (6BV), MML7 (8BV), MML9 (11BV), Arrow IV Homing (30 BV)
F15: =SUM(F2:F13) -> 9820 | H15: =ROUND(AVERAGE(H2:H13,0),0) -> 4 | I15: =ROUND(AVERAGE(I2:I13,0),0) -> 4 | K15: =SUM(K2:K13) -> 56 | L15: =COUNTIF(L2:L13,"Y") -> 4 | M15: =SUM(M2:M13) -> 224 | N15: =SUM(N2:N13) -> 10044 | Q15: =SUM(Q2:Q13) -> 10044 | S15: =SUM(S2:S13) -> 10917

Sheet Skill Multiplier
A1: Gunnery | B1: 0 | C1: 1 | D1: 2 | E1: 3 | F1: 4 | G1: 5 | H1: 6 | I1: 7 | J1: 8
A2: 0 | B2: 2.42 | C2: 2.31 | D2: 2.21 | E2: 2.1 | F2: 1.93 | G2: 1.75 | H2: 1.68 | I2: 1.59 | J2: 1.5
A3: 1 | B3: 2.21 | C3: 2.11 | D3: 2.02 | E3: 1.92 | F3: 1.76 | G3: 1.6 | H3: 1.54 | I3: 1.46 | J3: 1.38
A4: 2 | B4: 1.93 | C4: 1.85 | D4: 1.76 | E4: 1.68 | F4: 1.54 | G4: 1.4 | H4: 1.35 | I4: 1.28 | J4: 1.21
A5: 3 | B5: 1.66 | C5: 1.58 | D5: 1.51 | E5: 1.44 | F5: 1.32 | G5: 1.2 | H5: 1.16 | I5: 1.1 | J5: 1.04
A6: 4 | B6: 1.38 | C6: 1.32 | D6: 1.26 | E6: 1.2 | F6: 1.1 | G6: 1 | H6: 0.95 | I6: 0.9 | J6: 0.85
A7: 5 | B7: 1.31 | C7: 1.19 | D7: 1.13 | E7: 1.08 | F7: 0.99 | G7: 0.9 | H7: 0.86 | I7: 0.81 | J7: 0.77
A8: 6 | B8: 1.24 | C8: 1.12 | D8: 1.07 | E8: 1.02 | F8: 0.94 | G8: 0.85 | H8: 0.81 | I8: 0.77 | J8: 0.72
A9: 7 | B9: 1.17 | C9: 1.06 | D9: 1.01 | E9: 0.96 | F9: 0.88 | G9: 0.8 | H9: 0.76 | I9: 0.72 | J9: 0.68
A10: 8 | B10: 1.1 | C10: 0.99 | D10: 0.95 | E10: 0.9 | F10: 0.83 | G10: 0.75 | H10: 0.71 | I10: 0.68 | J10: 0.64

Sheet Allowed Skills
A1: Gunnery | B1: Piloting | D1: Skill | E1: Training | G1: C3 Network Types
A2: 0 | B2: 0 | D2: 0 | E2: Legendary
A3: 1 | B3: 1 | D3: 1 | E3: Heroic | G3: Lance A | I3: Y
A4: 2 | B4: 2 | D4: 2 | E4: Elite | G4: Lance B | I4: N
A5: 3 | B5: 3 | D5: 3 | E5: Veteran | G5: Lance C
A6: 4 | B6: 4 | D6: 4 | E6: Regular | G6: Company
A7: 5 | B7: 5 | D7: 5 | E7: Green | G7: Level II α (C3i)
A8: 6 | B8: 6 | D8: 6 | E8: Very Green | G8: Level II β (C3i)
A9: 7 | B9: 7 | D9: 7 | E9: Civillian
A10: 8 | B10: 8
